BEGIN:VCALENDAR
VERSION:2.0
PRODID:-//CLASS Training | Nebosh Learning Partner - ECPv6.15.18//NONSGML v1.0//EN
CALSCALE:GREGORIAN
METHOD:PUBLISH
X-WR-CALNAME:CLASS Training | Nebosh Learning Partner
X-ORIGINAL-URL:https://classtraining.eu
X-WR-CALDESC:Events for CLASS Training | Nebosh Learning Partner
REFRESH-INTERVAL;VALUE=DURATION:PT1H
X-Robots-Tag:noindex
X-PUBLISHED-TTL:PT1H
BEGIN:VTIMEZONE
TZID:Europe/Bucharest
BEGIN:DAYLIGHT
TZOFFSETFROM:+0200
TZOFFSETTO:+0300
TZNAME:EEST
DTSTART:20230326T010000
END:DAYLIGHT
BEGIN:STANDARD
TZOFFSETFROM:+0300
TZOFFSETTO:+0200
TZNAME:EET
DTSTART:20231029T010000
END:STANDARD
BEGIN:DAYLIGHT
TZOFFSETFROM:+0200
TZOFFSETTO:+0300
TZNAME:EEST
DTSTART:20240331T010000
END:DAYLIGHT
BEGIN:STANDARD
TZOFFSETFROM:+0300
TZOFFSETTO:+0200
TZNAME:EET
DTSTART:20241027T010000
END:STANDARD
BEGIN:DAYLIGHT
TZOFFSETFROM:+0200
TZOFFSETTO:+0300
TZNAME:EEST
DTSTART:20250330T010000
END:DAYLIGHT
BEGIN:STANDARD
TZOFFSETFROM:+0300
TZOFFSETTO:+0200
TZNAME:EET
DTSTART:20251026T010000
END:STANDARD
BEGIN:DAYLIGHT
TZOFFSETFROM:+0200
TZOFFSETTO:+0300
TZNAME:EEST
DTSTART:20260329T010000
END:DAYLIGHT
BEGIN:STANDARD
TZOFFSETFROM:+0300
TZOFFSETTO:+0200
TZNAME:EET
DTSTART:20261025T010000
END:STANDARD
END:VTIMEZONE
BEGIN:VEVENT
DTSTART;TZID=Europe/Bucharest:20250507T130000
DTEND;TZID=Europe/Bucharest:20250508T130000
DTSTAMP:20260424T120509
CREATED:20250330T164703Z
LAST-MODIFIED:20250330T164703Z
UID:21264-1746622800-1746709200@classtraining.eu
SUMMARY:NEBOSH IGC – Examination – May 2025
DESCRIPTION:May 7\, 2025 @ 13:00 – May 8\, 2025 @ 13:00 EET
URL:https://classtraining.eu/classes/nebosh-igc-examination-may-2025/
LOCATION:Online – Open Book Exam\, Open Book Exam
CATEGORIES:Nebosh Exam
ORGANIZER;CN="CLASS Training":MAILTO:contact@classtraining.eu
END:VEVENT
BEGIN:VEVENT
DTSTART;TZID=Europe/Bucharest:20250411T090000
DTEND;TZID=Europe/Bucharest:20250411T170000
DTSTAMP:20260424T120509
CREATED:20241123T163601Z
LAST-MODIFIED:20241123T163601Z
UID:20854-1744362000-1744390800@classtraining.eu
SUMMARY:NEBOSH HSE Managing Risks and Risk Assessment Course and Exam\, April 2025
DESCRIPTION:April 11 @ 09:00 – 17:00 EET
URL:https://classtraining.eu/classes/nebosh-hse-managing-risks-and-risk-assessment-course-and-exam-april-2025/
LOCATION:Live Remote Course\, Via Teams/Zoom platforms
CATEGORIES:NEBOSH HSE Managing Risks and Risk Assessment
ORGANIZER;CN="CLASS Training":MAILTO:contact@classtraining.eu
END:VEVENT
BEGIN:VEVENT
DTSTART;TZID=Europe/Bucharest:20250409T130000
DTEND;TZID=Europe/Bucharest:20250410T130000
DTSTAMP:20260424T120509
CREATED:20241123T163315Z
LAST-MODIFIED:20241123T163315Z
UID:20852-1744203600-1744290000@classtraining.eu
SUMMARY:NEBOSH IGC – Examination – April 2025
DESCRIPTION:April 9\, 2025 @ 13:00 – April 10\, 2025 @ 13:00 EET
URL:https://classtraining.eu/classes/nebosh-igc-examination-april-2025/
LOCATION:Online – Open Book Exam\, Open Book Exam
CATEGORIES:Nebosh Exam
ORGANIZER;CN="CLASS Training":MAILTO:contact@classtraining.eu
END:VEVENT
BEGIN:VEVENT
DTSTART;TZID=Europe/Bucharest:20250310T090000
DTEND;TZID=Europe/Bucharest:20250321T170000
DTSTAMP:20260424T120509
CREATED:20241123T163029Z
LAST-MODIFIED:20241123T163029Z
UID:20850-1741597200-1742576400@classtraining.eu
SUMMARY:NEBOSH IGC – Live Remote Course March\, 2025
DESCRIPTION:March 10\, 2025 @ 09:00 – March 21\, 2025 @ 17:00 EET
URL:https://classtraining.eu/classes/nebosh-igc-live-remote-course-march-2025/
LOCATION:Live Remote Course\, Via Teams/Zoom platforms
CATEGORIES:Nebosh International General Certificate Course
ORGANIZER;CN="CLASS Training":MAILTO:contact@classtraining.eu
END:VEVENT
BEGIN:VEVENT
DTSTART;TZID=Europe/Bucharest:20250205T130000
DTEND;TZID=Europe/Bucharest:20250206T130000
DTSTAMP:20260424T120509
CREATED:20241123T162829Z
LAST-MODIFIED:20241123T162829Z
UID:20848-1738760400-1738846800@classtraining.eu
SUMMARY:NEBOSH IGC – Examination – February 2025
DESCRIPTION:February 5\, 2025 @ 13:00 – February 6\, 2025 @ 13:00 EET
URL:https://classtraining.eu/classes/nebosh-igc-examination-february-2025/
LOCATION:Online – Open Book Exam\, Open Book Exam
CATEGORIES:Nebosh Exam
ORGANIZER;CN="CLASS Training":MAILTO:contact@classtraining.eu
END:VEVENT
BEGIN:VEVENT
DTSTART;TZID=Europe/Bucharest:20250115T090000
DTEND;TZID=Europe/Bucharest:20250128T170000
DTSTAMP:20260424T120509
CREATED:20241123T162521Z
LAST-MODIFIED:20241123T162539Z
UID:20846-1736931600-1738083600@classtraining.eu
SUMMARY:NEBOSH IGC – Live Remote Course January\, 2025
DESCRIPTION:January 15\, 2025 @ 09:00 – January 28\, 2025 @ 17:00 EET
URL:https://classtraining.eu/classes/nebosh-igc-live-remote-course-january-2025/
LOCATION:Live Remote Course\, Via Teams/Zoom platforms
CATEGORIES:Nebosh International General Certificate Course
ORGANIZER;CN="CLASS Training":MAILTO:contact@classtraining.eu
END:VEVENT
BEGIN:VEVENT
DTSTART;TZID=Europe/Bucharest:20241204T130000
DTEND;TZID=Europe/Bucharest:20241204T130000
DTSTAMP:20260424T120509
CREATED:20240724T105940Z
LAST-MODIFIED:20240724T110234Z
UID:20709-1733317200-1733317200@classtraining.eu
SUMMARY:NEBOSH IGC – Examination – December 2024
DESCRIPTION:December 4\, 2024 @ 13:00 – December 5\, 2024 @ 13:00 EET
URL:https://classtraining.eu/classes/nebosh-igc-examination-december-2024/
LOCATION:Online – Open Book Exam\, Open Book Exam
CATEGORIES:Nebosh Exam
ORGANIZER;CN="CLASS Training":MAILTO:contact@classtraining.eu
END:VEVENT
BEGIN:VEVENT
DTSTART;TZID=Europe/Bucharest:20241118T090000
DTEND;TZID=Europe/Bucharest:20241129T170000
DTSTAMP:20260424T120509
CREATED:20240724T104848Z
LAST-MODIFIED:20241023T071507Z
UID:20707-1731920400-1732899600@classtraining.eu
SUMMARY:NEBOSH IGC – In classroom Course November\, 2024
DESCRIPTION:November 18\, 2024 @ 09:00 – November 29\, 2024 @ 17:00 EET
URL:https://classtraining.eu/classes/nebosh-igc-live-remote-in-class-course-november-2024/
LOCATION:Bucharest 1\, Strada Dr. Iacob Felix 55\, Bucharest\, Sector 1\, Romania
CATEGORIES:Nebosh International General Certificate Course
ORGANIZER;CN="CLASS Training":MAILTO:contact@classtraining.eu
END:VEVENT
BEGIN:VEVENT
DTSTART;TZID=Europe/Bucharest:20241115T090000
DTEND;TZID=Europe/Bucharest:20241115T170000
DTSTAMP:20260424T120509
CREATED:20240724T104557Z
LAST-MODIFIED:20240724T104635Z
UID:20705-1731661200-1731690000@classtraining.eu
SUMMARY:NEBOSH HSE Managing Risks and Risk Assessment Course and Exam\, November 2024
DESCRIPTION:November 15\, 2024 @ 09:00 – November 15\, 2024 @ 17:00 EET
URL:https://classtraining.eu/classes/nebosh-hse-managing-risks-and-risk-assessment-course-and-exam-november-2024/
LOCATION:Live Remote Course\, Via Teams/Zoom platforms
CATEGORIES:NEBOSH HSE Managing Risks and Risk Assessment
ORGANIZER;CN="CLASS Training":MAILTO:contact@classtraining.eu
END:VEVENT
BEGIN:VEVENT
DTSTART;TZID=Europe/Bucharest:20241108T080000
DTEND;TZID=Europe/Bucharest:20241108T170000
DTSTAMP:20260424T120509
CREATED:20240724T104315Z
LAST-MODIFIED:20240724T104315Z
UID:20703-1731052800-1731085200@classtraining.eu
SUMMARY:NEBOSH HSE Introduction to Incident Investigation Course and Exam\, November 2024
DESCRIPTION:November 08\, 2024 @ 09:00 – November 08\, 2024 @ 17:00 EET
URL:https://classtraining.eu/classes/nebosh-hse-introduction-to-incident-investigation-course-and-exam-november-2024/
LOCATION:Live Remote Course\, Via Teams/Zoom platforms
CATEGORIES:NEBOSH HSE Incident Investigation Course and Exam
ORGANIZER;CN="CLASS Training":MAILTO:contact@classtraining.eu
END:VEVENT
BEGIN:VEVENT
DTSTART;TZID=Europe/Bucharest:20241106T130000
DTEND;TZID=Europe/Bucharest:20241107T130000
DTSTAMP:20260424T120509
CREATED:20240724T104013Z
LAST-MODIFIED:20240724T104013Z
UID:20701-1730898000-1730984400@classtraining.eu
SUMMARY:NEBOSH IGC – Examination – November 2024
DESCRIPTION:November 6\, 2024 @ 13:00 – November 7\, 2024 @ 13:00 EET \nNovember 6 @ 13:00 – November 7 @ 13:00 EET
URL:https://classtraining.eu/classes/nebosh-igc-examination-november-2024/
LOCATION:Online – Open Book Exam\, Open Book Exam
CATEGORIES:Nebosh Exam
ORGANIZER;CN="CLASS Training":MAILTO:contact@classtraining.eu
END:VEVENT
BEGIN:VEVENT
DTSTART;TZID=Europe/Bucharest:20241104T090000
DTEND;TZID=Europe/Bucharest:20241107T170000
DTSTAMP:20260424T120509
CREATED:20240724T103421Z
LAST-MODIFIED:20240724T103421Z
UID:20699-1730710800-1730998800@classtraining.eu
SUMMARY:NEBOSH PSM – Live Remote Course November\, 2024
DESCRIPTION:November 04\, 2024 @ 09:00 – November 07\, 2024 @ 17:00 EET \nNovember 04 @ 09:00 – November 07 @ 17:00 EET
URL:https://classtraining.eu/classes/nebosh-psm-live-remote-course-november-2024/
LOCATION:Live Remote Course\, Via Teams/Zoom platforms
CATEGORIES:Nebosh PSM Certificate Course
ORGANIZER;CN="CLASS Training":MAILTO:contact@classtraining.eu
END:VEVENT
BEGIN:VEVENT
DTSTART;TZID=Europe/Bucharest:20241007T090000
DTEND;TZID=Europe/Bucharest:20241018T170000
DTSTAMP:20260424T120509
CREATED:20240724T102356Z
LAST-MODIFIED:20240724T102356Z
UID:20697-1728291600-1729270800@classtraining.eu
SUMMARY:NEBOSH IGC – Live Remote Course October\, 2024
DESCRIPTION:October 07\, 2024 @ 09:00 – October 18\, 2024 @ 17:00 EET \nOctober 07 @ 09:00 – October 18 @ 17:00 EET
URL:https://classtraining.eu/classes/nebosh-igc-live-remote-course-october-2024/
LOCATION:Online – Open Book Exam\, Open Book Exam
CATEGORIES:Nebosh International General Certificate Course
ORGANIZER;CN="CLASS Training":MAILTO:contact@classtraining.eu
END:VEVENT
BEGIN:VEVENT
DTSTART;TZID=Europe/Bucharest:20241002T130000
DTEND;TZID=Europe/Bucharest:20241003T130000
DTSTAMP:20260424T120509
CREATED:20240724T102037Z
LAST-MODIFIED:20240724T102037Z
UID:20694-1727874000-1727960400@classtraining.eu
SUMMARY:NEBOSH IGC – Examination – October 2024
DESCRIPTION:October 2\, 2024 @ 13:00 – October 3\, 2024 @ 13:00 EET \nOctober 2 @ 13:00 – October 3 @ 13:00 EET
URL:https://classtraining.eu/classes/nebosh-igc-examination-october-2024/
LOCATION:Online – Open Book Exam\, Open Book Exam
CATEGORIES:Nebosh Exam
ORGANIZER;CN="CLASS Training":MAILTO:contact@classtraining.eu
END:VEVENT
BEGIN:VEVENT
DTSTART;TZID=Europe/Bucharest:20240916T090000
DTEND;TZID=Europe/Bucharest:20240927T170000
DTSTAMP:20260424T120509
CREATED:20240724T101453Z
LAST-MODIFIED:20240724T101453Z
UID:20692-1726477200-1727456400@classtraining.eu
SUMMARY:NEBOSH IGC – Live Remote Course September\, 2024
DESCRIPTION:September 16\, 2024 @ 09:00 – September 27\, 2024 @ 17:00 EET \nSeptember 16 @ 09:00 – September 27 @ 17:00 EET
URL:https://classtraining.eu/classes/nebosh-igc-live-remote-course-september-2024/
LOCATION:Live Remote Course\, Via Teams/Zoom platforms
CATEGORIES:Nebosh International General Certificate Course
ORGANIZER;CN="CLASS Training":MAILTO:contact@classtraining.eu
END:VEVENT
BEGIN:VEVENT
DTSTART;TZID=Europe/Bucharest:20240904T130000
DTEND;TZID=Europe/Bucharest:20240905T130000
DTSTAMP:20260424T120509
CREATED:20240724T101147Z
LAST-MODIFIED:20240724T101147Z
UID:20689-1725454800-1725541200@classtraining.eu
SUMMARY:NEBOSH IGC – Examination – September 2024
DESCRIPTION:September 4\, 2024 @ 13:00 – September 5\, 2024 @ 13:00 EET \nSeptember 4 @ 13:00 – September 5 @ 13:00 EET
URL:https://classtraining.eu/classes/nebosh-igc-examination-september-2024/
LOCATION:Online – Open Book Exam\, Open Book Exam
CATEGORIES:Nebosh Exam
ORGANIZER;CN="CLASS Training":MAILTO:contact@classtraining.eu
END:VEVENT
BEGIN:VEVENT
DTSTART;TZID=Europe/Bucharest:20240807T130000
DTEND;TZID=Europe/Bucharest:20240808T130000
DTSTAMP:20260424T120509
CREATED:20240724T100536Z
LAST-MODIFIED:20240724T101223Z
UID:20687-1723035600-1723122000@classtraining.eu
SUMMARY:NEBOSH IGC – Examination – August 2024
DESCRIPTION:August 7\, 2024 @ 13:00 – August 8\, 2024 @ 13:00 EET \nAugust 7 @ 13:00 – August 8 @ 13:00 EET
URL:https://classtraining.eu/classes/nebosh-igc-examination-august-2024/
LOCATION:Online – Open Book Exam\, Open Book Exam
CATEGORIES:Nebosh Exam
ORGANIZER;CN="CLASS Training":MAILTO:contact@classtraining.eu
END:VEVENT
END:VCALENDAR